BEGIN:VCALENDAR
VERSION:2.0
PRODID:-//Butierezforcongress.com - ECPv6.15.20//NONSGML v1.0//EN
CALSCALE:GREGORIAN
METHOD:PUBLISH
X-ORIGINAL-URL:https://butierezforcongress.com
X-WR-CALDESC:Events for Butierezforcongress.com
REFRESH-INTERVAL;VALUE=DURATION:PT1H
X-Robots-Tag:noindex
X-PUBLISHED-TTL:PT1H
BEGIN:VTIMEZONE
TZID:America/Phoenix
BEGIN:STANDARD
TZOFFSETFROM:-0700
TZOFFSETTO:-0700
TZNAME:MST
DTSTART:20250101T000000
END:STANDARD
END:VTIMEZONE
BEGIN:VEVENT
DTSTART;TZID=America/Phoenix:20260118T090000
DTEND;TZID=America/Phoenix:20260118T170000
DTSTAMP:20260422T130130
CREATED:20260113T221136Z
LAST-MODIFIED:20260114T025403Z
UID:1199-1768726800-1768755600@butierezforcongress.com
SUMMARY:Campaign Committee Trainning
DESCRIPTION:Join us for this event \nbutierezforcongress@gmail.com
URL:https://butierezforcongress.com/events/camoaign-committee-trainning/
END:VEVENT
BEGIN:VEVENT
DTSTART;TZID=America/Phoenix:20260109T080000
DTEND;TZID=America/Phoenix:20260109T170000
DTSTAMP:20260422T130130
CREATED:20260113T222337Z
LAST-MODIFIED:20260113T222337Z
UID:1202-1767945600-1767978000@butierezforcongress.com
SUMMARY:Dan Test Event
DESCRIPTION:sdfasdf
URL:https://butierezforcongress.com/events/dan-test-event/
END:VEVENT
END:VCALENDAR